BEGIN:VCALENDAR
VERSION:2.0
PRODID:-//Actu.Art - ECPv6.15.13//NONSGML v1.0//EN
CALSCALE:GREGORIAN
METHOD:PUBLISH
X-WR-CALNAME:Actu.Art
X-ORIGINAL-URL:https://actu.art
X-WR-CALDESC:Évènements pour Actu.Art
BEGIN:VTIMEZONE
TZID:Europe/Paris
BEGIN:DAYLIGHT
TZOFFSETFROM:+0100
TZOFFSETTO:+0200
TZNAME:CEST
DTSTART:20210328T010000
END:DAYLIGHT
BEGIN:STANDARD
TZOFFSETFROM:+0200
TZOFFSETTO:+0100
TZNAME:CET
DTSTART:20211031T010000
END:STANDARD
BEGIN:DAYLIGHT
TZOFFSETFROM:+0100
TZOFFSETTO:+0200
TZNAME:CEST
DTSTART:20220327T010000
END:DAYLIGHT
BEGIN:STANDARD
TZOFFSETFROM:+0200
TZOFFSETTO:+0100
TZNAME:CET
DTSTART:20221030T010000
END:STANDARD
BEGIN:DAYLIGHT
TZOFFSETFROM:+0100
TZOFFSETTO:+0200
TZNAME:CEST
DTSTART:20230326T010000
END:DAYLIGHT
BEGIN:STANDARD
TZOFFSETFROM:+0200
TZOFFSETTO:+0100
TZNAME:CET
DTSTART:20231029T010000
END:STANDARD
BEGIN:DAYLIGHT
TZOFFSETFROM:+0100
TZOFFSETTO:+0200
TZNAME:CEST
DTSTART:20240331T010000
END:DAYLIGHT
BEGIN:STANDARD
TZOFFSETFROM:+0200
TZOFFSETTO:+0100
TZNAME:CET
DTSTART:20241027T010000
END:STANDARD
END:VTIMEZONE
BEGIN:VEVENT
DTSTART;TZID=Europe/Paris:20221116T110000
DTEND;TZID=Europe/Paris:20230522T190000
DTSTAMP:20260422T233746
CREATED:20230101T183717Z
LAST-MODIFIED:20230113T193415Z
UID:54051-1668596400-1684782000@actu.art
SUMMARY:Arts et Préhistoire
DESCRIPTION:Découvrez des chefs-d’œuvre de l’art préhistorique venus du monde entier. Une exposition qui retrace le pouvoir de la créativité humaine depuis la nuit des temps !
URL:https://actu.art/event/arts-et-prehistoire/
LOCATION:Musée de l’Homme\, 17 Place du Trocadéro\, Paris\, Paris\, 75016\, France
CATEGORIES:Notre Sélection
ATTACH;FMTTYPE=image/jpeg:https://actu.art/wp-content/uploads/2023/01/Arts-et-Prehistoire.jpg
GEO:48.8622808;2.2875596
X-APPLE-STRUCTURED-LOCATION;VALUE=URI;X-ADDRESS=Musée de l’Homme 17 Place du Trocadéro Paris Paris 75016 France;X-APPLE-RADIUS=500;X-TITLE=17 Place du Trocadéro:geo:2.2875596,48.8622808
END:VEVENT
END:VCALENDAR