BEGIN:VCALENDAR
VERSION:2.0
PRODID:-//Actu.Art - ECPv6.15.13//NONSGML v1.0//EN
CALSCALE:GREGORIAN
METHOD:PUBLISH
X-WR-CALNAME:Actu.Art
X-ORIGINAL-URL:https://actu.art
X-WR-CALDESC:Évènements pour Actu.Art
BEGIN:VTIMEZONE
TZID:Europe/Paris
BEGIN:DAYLIGHT
TZOFFSETFROM:+0100
TZOFFSETTO:+0200
TZNAME:CEST
DTSTART:20230326T010000
END:DAYLIGHT
BEGIN:STANDARD
TZOFFSETFROM:+0200
TZOFFSETTO:+0100
TZNAME:CET
DTSTART:20231029T010000
END:STANDARD
BEGIN:DAYLIGHT
TZOFFSETFROM:+0100
TZOFFSETTO:+0200
TZNAME:CEST
DTSTART:20240331T010000
END:DAYLIGHT
BEGIN:STANDARD
TZOFFSETFROM:+0200
TZOFFSETTO:+0100
TZNAME:CET
DTSTART:20241027T010000
END:STANDARD
BEGIN:DAYLIGHT
TZOFFSETFROM:+0100
TZOFFSETTO:+0200
TZNAME:CEST
DTSTART:20250330T010000
END:DAYLIGHT
BEGIN:STANDARD
TZOFFSETFROM:+0200
TZOFFSETTO:+0100
TZNAME:CET
DTSTART:20251026T010000
END:STANDARD
END:VTIMEZONE
BEGIN:VEVENT
DTSTART;TZID=Europe/Paris:20241019T110000
DTEND;TZID=Europe/Paris:20241019T190000
DTSTAMP:20260423T174724
CREATED:20241007T183810Z
LAST-MODIFIED:20241007T183810Z
UID:99987-1729335600-1729364400@actu.art
SUMMARY:Art Shopping Paris
DESCRIPTION:34ème édition parisienne au Carrousel du Louvre\nUn week-end dédié à l’art contemporain. \nRetrouvez une riche et éclectique sélection d’artistes et galeries nationales et internationales. Près de 2000 œuvres à découvrir ! \nVendredi 18 octobre : 20h-23h – vernissage uniquement sur invitation \nSamedi 19 octobre :11h-20h \nDimanche 20 octobre : 11h-19h \nDécouvrez dès maintenant les œuvres présentées par les galeries et les artistes. \nVOTRE INVITATION \nA présenter sur votre smartphone 
URL:https://actu.art/event/art-shopping-paris-4/
LOCATION:Carrousel du Louvre\, 99 Rue de Rivoli\, Paris\, Paris\, 75001\, France
CATEGORIES:Marchés de l'Art/Salons
ATTACH;FMTTYPE=image/jpeg:https://actu.art/wp-content/uploads/2024/10/Art-Shopping-Paris-2024-1.jpg
GEO:48.8617864;2.3340278
X-APPLE-STRUCTURED-LOCATION;VALUE=URI;X-ADDRESS=Carrousel du Louvre 99 Rue de Rivoli Paris Paris 75001 France;X-APPLE-RADIUS=500;X-TITLE=99 Rue de Rivoli:geo:2.3340278,48.8617864
END:VEVENT
END:VCALENDAR