BEGIN:VCALENDAR
VERSION:2.0
PRODID:-//Actu.Art - ECPv6.15.13//NONSGML v1.0//EN
CALSCALE:GREGORIAN
METHOD:PUBLISH
X-WR-CALNAME:Actu.Art
X-ORIGINAL-URL:https://actu.art
X-WR-CALDESC:Évènements pour Actu.Art
BEGIN:VTIMEZONE
TZID:Europe/Paris
BEGIN:DAYLIGHT
TZOFFSETFROM:+0100
TZOFFSETTO:+0200
TZNAME:CEST
DTSTART:20230326T010000
END:DAYLIGHT
BEGIN:STANDARD
TZOFFSETFROM:+0200
TZOFFSETTO:+0100
TZNAME:CET
DTSTART:20231029T010000
END:STANDARD
BEGIN:DAYLIGHT
TZOFFSETFROM:+0100
TZOFFSETTO:+0200
TZNAME:CEST
DTSTART:20240331T010000
END:DAYLIGHT
BEGIN:STANDARD
TZOFFSETFROM:+0200
TZOFFSETTO:+0100
TZNAME:CET
DTSTART:20241027T010000
END:STANDARD
BEGIN:DAYLIGHT
TZOFFSETFROM:+0100
TZOFFSETTO:+0200
TZNAME:CEST
DTSTART:20250330T010000
END:DAYLIGHT
BEGIN:STANDARD
TZOFFSETFROM:+0200
TZOFFSETTO:+0100
TZNAME:CET
DTSTART:20251026T010000
END:STANDARD
END:VTIMEZONE
BEGIN:VEVENT
DTSTART;VALUE=DATE:20241202
DTEND;VALUE=DATE:20241207
DTSTAMP:20260420T183925
CREATED:20241212T210254Z
LAST-MODIFIED:20241212T210254Z
UID:106668-1733097600-1733529599@actu.art
SUMMARY:ART-CRYLIQUE Une exposition de Gilles Vadin
DESCRIPTION:ART-CRYLIQUE Une exposition de Gilles Vadin
URL:https://actu.art/event/art-crylique-une-exposition-de-gilles-vadin/
LOCATION:Mairie de Trélissac\, Place Napoléon Magne\, Trélissac\, Dordogne\, 24750\, France
CATEGORIES:Expositions
ATTACH;FMTTYPE=image/jpeg:https://actu.art/wp-content/uploads/2024/12/ART_CRYLIQUE_Une_exposition_de_Gilles_Vadin.jpg
GEO:45.1950171;0.7802224
X-APPLE-STRUCTURED-LOCATION;VALUE=URI;X-ADDRESS=Mairie de Trélissac Place Napoléon Magne Trélissac Dordogne 24750 France;X-APPLE-RADIUS=500;X-TITLE=Place Napoléon Magne:geo:0.7802224,45.1950171
END:VEVENT
END:VCALENDAR