BEGIN:VCALENDAR
VERSION:2.0
PRODID:-//Actu.Art - ECPv6.15.13//NONSGML v1.0//EN
CALSCALE:GREGORIAN
METHOD:PUBLISH
X-WR-CALNAME:Actu.Art
X-ORIGINAL-URL:https://actu.art
X-WR-CALDESC:Évènements pour Actu.Art
BEGIN:VTIMEZONE
TZID:Europe/Paris
BEGIN:DAYLIGHT
TZOFFSETFROM:+0100
TZOFFSETTO:+0200
TZNAME:CEST
DTSTART:20250330T010000
END:DAYLIGHT
BEGIN:STANDARD
TZOFFSETFROM:+0200
TZOFFSETTO:+0100
TZNAME:CET
DTSTART:20251026T010000
END:STANDARD
BEGIN:DAYLIGHT
TZOFFSETFROM:+0100
TZOFFSETTO:+0200
TZNAME:CEST
DTSTART:20260329T010000
END:DAYLIGHT
BEGIN:STANDARD
TZOFFSETFROM:+0200
TZOFFSETTO:+0100
TZNAME:CET
DTSTART:20261025T010000
END:STANDARD
BEGIN:DAYLIGHT
TZOFFSETFROM:+0100
TZOFFSETTO:+0200
TZNAME:CEST
DTSTART:20270328T010000
END:DAYLIGHT
BEGIN:STANDARD
TZOFFSETFROM:+0200
TZOFFSETTO:+0100
TZNAME:CET
DTSTART:20271031T010000
END:STANDARD
END:VTIMEZONE
BEGIN:VEVENT
DTSTART;TZID=Europe/Paris:20260301T143000
DTEND;TZID=Europe/Paris:20261228T163000
DTSTAMP:20260421T132915
CREATED:20260226T202633Z
LAST-MODIFIED:20260321T212917Z
UID:139317-1772375400-1798475400@actu.art
SUMMARY:Arp – Stahly : Histoires naturelles
DESCRIPTION:À Clamart (Hauts-de-Seine)\, la Fondation Arp unit dès le 13 mars Jean Arp et François Stahly dans une exploration sculpturale inédite de la nature.
URL:https://actu.art/event/arp-stahly-histoires-naturelles/
LOCATION:Fondation Arp\, 21 rue des Châtaigners\, Clamart\, Hauts-de-Seine\, 92140\, France
CATEGORIES:Expositions Temporaires
ATTACH;FMTTYPE=image/jpeg:https://actu.art/wp-content/uploads/2026/02/Arp-Stahly.jpg
GEO:48.8040409;2.2441674
X-APPLE-STRUCTURED-LOCATION;VALUE=URI;X-ADDRESS=Fondation Arp 21 rue des Châtaigners Clamart Hauts-de-Seine 92140 France;X-APPLE-RADIUS=500;X-TITLE=21 rue des Châtaigners:geo:2.2441674,48.8040409
END:VEVENT
END:VCALENDAR