BEGIN:VCALENDAR
VERSION:2.0
PRODID:-//Actu.Art - ECPv6.15.13//NONSGML v1.0//EN
CALSCALE:GREGORIAN
METHOD:PUBLISH
X-WR-CALNAME:Actu.Art
X-ORIGINAL-URL:https://actu.art
X-WR-CALDESC:Évènements pour Actu.Art
BEGIN:VTIMEZONE
TZID:Europe/Paris
BEGIN:DAYLIGHT
TZOFFSETFROM:+0100
TZOFFSETTO:+0200
TZNAME:CEST
DTSTART:20240331T010000
END:DAYLIGHT
BEGIN:STANDARD
TZOFFSETFROM:+0200
TZOFFSETTO:+0100
TZNAME:CET
DTSTART:20241027T010000
END:STANDARD
BEGIN:DAYLIGHT
TZOFFSETFROM:+0100
TZOFFSETTO:+0200
TZNAME:CEST
DTSTART:20250330T010000
END:DAYLIGHT
BEGIN:STANDARD
TZOFFSETFROM:+0200
TZOFFSETTO:+0100
TZNAME:CET
DTSTART:20251026T010000
END:STANDARD
BEGIN:DAYLIGHT
TZOFFSETFROM:+0100
TZOFFSETTO:+0200
TZNAME:CEST
DTSTART:20260329T010000
END:DAYLIGHT
BEGIN:STANDARD
TZOFFSETFROM:+0200
TZOFFSETTO:+0100
TZNAME:CET
DTSTART:20261025T010000
END:STANDARD
END:VTIMEZONE
BEGIN:VEVENT
DTSTART;TZID=Europe/Paris:20250530T140000
DTEND;TZID=Europe/Paris:20250629T180000
DTSTAMP:20260426T060520
CREATED:20250701T192618Z
LAST-MODIFIED:20250701T192618Z
UID:122461-1748613600-1751220000@actu.art
SUMMARY:Aquarelles\, Paysages de Sarthe
DESCRIPTION:Françoise Guillemain\, aquarelliste\, est de celle qui sillonne les paysages\, passionnée par leurs multiples facettes. Elle observe avec un regard vif les changements d’ambiances créés par la nature.\nDe retour dans son atelier\, le souvenir s’appuie sur quelques photos ; et c’est alors que son travail sur une feuille d’aquarelle commence. Les impressions jaillissent. L’artiste travaille sur plusieurs sujets en même temps. Une façon de réserver une place à chaque instant qui a été unique. Elle ne mélange l’aquarelle à aucun liant\, travaille avec des couleurs pures qu’elle décline ensuite pour obtenir une grande palette de nuances. En retraçant toutes les subtilités observées\, elle crée des compositions pleines d’harmonies sans pour autant se soucier d’une vraisemblance exacte. Et pourtant\, chacune de ses œuvres reflète un mouvement précis. Ces aquarelles sont à la fois composées d’une prise de vue d’un instant et de la description d’une ambiance dans laquelle on pénètre sur la pointe des pieds et qui imprègne tous nos sens. \n© Françoise GUILLEMAIN \nParc Théodore Monod\, 6 Rue Marceau\, 72100 Le Mans.\nEntrée libre et gratuite.\nDates : du 30 mai au 29 juin 2025. Du mardi au dimanche de 14h à 17h30. Ouvert jusqu’à 18h de mai à septembre.
URL:https://actu.art/event/aquarelles-paysages-de-sarthe/
LOCATION:Pavillon du Parc Théodore-Monod\, 6 rue Marceau\, Le Mans\, Sarthe\, 72100
CATEGORIES:Expositions
ATTACH;FMTTYPE=image/jpeg:https://actu.art/wp-content/uploads/2025/07/Aquarelles_Paysages_de_Sarthe.jpg
END:VEVENT
END:VCALENDAR