BEGIN:VCALENDAR
VERSION:2.0
PRODID:-//Actu.Art - ECPv6.15.13//NONSGML v1.0//EN
CALSCALE:GREGORIAN
METHOD:PUBLISH
X-WR-CALNAME:Actu.Art
X-ORIGINAL-URL:https://actu.art
X-WR-CALDESC:Évènements pour Actu.Art
BEGIN:VTIMEZONE
TZID:Europe/Paris
BEGIN:DAYLIGHT
TZOFFSETFROM:+0100
TZOFFSETTO:+0200
TZNAME:CEST
DTSTART:20240331T010000
END:DAYLIGHT
BEGIN:STANDARD
TZOFFSETFROM:+0200
TZOFFSETTO:+0100
TZNAME:CET
DTSTART:20241027T010000
END:STANDARD
BEGIN:DAYLIGHT
TZOFFSETFROM:+0100
TZOFFSETTO:+0200
TZNAME:CEST
DTSTART:20250330T010000
END:DAYLIGHT
BEGIN:STANDARD
TZOFFSETFROM:+0200
TZOFFSETTO:+0100
TZNAME:CET
DTSTART:20251026T010000
END:STANDARD
BEGIN:DAYLIGHT
TZOFFSETFROM:+0100
TZOFFSETTO:+0200
TZNAME:CEST
DTSTART:20260329T010000
END:DAYLIGHT
BEGIN:STANDARD
TZOFFSETFROM:+0200
TZOFFSETTO:+0100
TZNAME:CET
DTSTART:20261025T010000
END:STANDARD
END:VTIMEZONE
BEGIN:VEVENT
DTSTART;TZID=Europe/Paris:20250723T140000
DTEND;TZID=Europe/Paris:20250723T183000
DTSTAMP:20260422T142737
CREATED:20250714T191438Z
LAST-MODIFIED:20250714T191438Z
UID:124012-1753279200-1753295400@actu.art
SUMMARY:Après-midi dessin et peinture à l'Abbaye
DESCRIPTION:Dans le cadre de l’exposition « Les Racines du Monde »\, avec Françoise Baron du 16 juillet au 17 août\, Pascal Girard\, graveur\, organise une après-midi dessin et peinture dans le très bel environnement de l’abbaye.\nPrenez votre chevalet vos peintures et vos pinceaux et venez exprimer votre talent !  \nTarif réduit (5 €) pour les artistes participants. Tarifs habituels pour les visiteurs\, incluant la visite libre de l’abbaye et des jardins monastiques.
URL:https://actu.art/event/apres-midi-dessin-et-peinture-a-labbaye/
LOCATION:Abbaye Notre-Dame de Fontaine-Guérard\, D714\, Radepont\, Eure\, 27380\, France
CATEGORIES:Divers
GEO:49.3468469;1.3090869
X-APPLE-STRUCTURED-LOCATION;VALUE=URI;X-ADDRESS=Abbaye Notre-Dame de Fontaine-Guérard D714 Radepont Eure 27380 France;X-APPLE-RADIUS=500;X-TITLE=D714:geo:1.3090869,49.3468469
END:VEVENT
END:VCALENDAR