BEGIN:VCALENDAR
VERSION:2.0
PRODID:-//Actu.Art - ECPv6.15.13//NONSGML v1.0//EN
CALSCALE:GREGORIAN
METHOD:PUBLISH
X-WR-CALNAME:Actu.Art
X-ORIGINAL-URL:https://actu.art
X-WR-CALDESC:Évènements pour Actu.Art
BEGIN:VTIMEZONE
TZID:Europe/Paris
BEGIN:DAYLIGHT
TZOFFSETFROM:+0100
TZOFFSETTO:+0200
TZNAME:CEST
DTSTART:20200329T010000
END:DAYLIGHT
BEGIN:STANDARD
TZOFFSETFROM:+0200
TZOFFSETTO:+0100
TZNAME:CET
DTSTART:20201025T010000
END:STANDARD
BEGIN:DAYLIGHT
TZOFFSETFROM:+0100
TZOFFSETTO:+0200
TZNAME:CEST
DTSTART:20210328T010000
END:DAYLIGHT
BEGIN:STANDARD
TZOFFSETFROM:+0200
TZOFFSETTO:+0100
TZNAME:CET
DTSTART:20211031T010000
END:STANDARD
BEGIN:DAYLIGHT
TZOFFSETFROM:+0100
TZOFFSETTO:+0200
TZNAME:CEST
DTSTART:20220327T010000
END:DAYLIGHT
BEGIN:STANDARD
TZOFFSETFROM:+0200
TZOFFSETTO:+0100
TZNAME:CET
DTSTART:20221030T010000
END:STANDARD
BEGIN:DAYLIGHT
TZOFFSETFROM:+0100
TZOFFSETTO:+0200
TZNAME:CEST
DTSTART:20230326T010000
END:DAYLIGHT
BEGIN:STANDARD
TZOFFSETFROM:+0200
TZOFFSETTO:+0100
TZNAME:CET
DTSTART:20231029T010000
END:STANDARD
END:VTIMEZONE
BEGIN:VEVENT
DTSTART;TZID=Europe/Paris:20211216T100000
DTEND;TZID=Europe/Paris:20220111T190000
DTSTAMP:20260424T094803
CREATED:20211219T162029Z
LAST-MODIFIED:20211219T162200Z
UID:40677-1639648800-1641927600@actu.art
SUMMARY:Anselm Kiefer : Pour Paul Celan
DESCRIPTION:« Celan ne se contente pas de contempler le néant\, il l’a expérimenté\, vécu\, traversé ». Anselm Kiefer\, 20 juin 2021 \nQuinze ans après avoir inauguré la série des Monumenta au Grand Palais en 2007\, Anselm Kiefer est le premier plasticien à investir l’intégralité de l’espace du Grand Palais Éphémère\, pour un projet inédit.\nAvec Pour Paul Celan\, il poursuit son travail sur la mémoire européenne\, traversée par ses conflits. Installées dans les volumes uniques du Grand Palais Éphémère au moyen d’une scénographie minimale\, des sculptures\, des installations et des toiles de grand format\, conçues entre 2015 et 2021\, interagissent avec la poésie inapaisée du grand poète de langue allemande Paul Celan\, dont l’œuvre a sans cesse été présent dans les peintures d’Anselm Kiefer. Fragments de textes tracés à la craie\, pigments et matériaux végétaux composent cette relecture picturale du texte de Celan\, qui\, après avoir connu l’horreur des camps\, a entrepris sa vie durant d’utiliser le langage comme un outil contre l’oubli et la barbarie – parce qu’il est nécessaire de se tourner\, souvent\, vers le passé pour mieux comprendre notre avenir.
URL:https://actu.art/event/anselm-kiefer-pour-paul-celan/
LOCATION:Grand Palais Ephémère\, Place Joffre\, Paris\, Paris\, 75007\, France
CATEGORIES:Notre Sélection
ATTACH;FMTTYPE=image/jpeg:https://actu.art/wp-content/uploads/2021/12/Anselm-Kiefer-532x800-1.jpg
GEO:48.8519167;2.3011335
X-APPLE-STRUCTURED-LOCATION;VALUE=URI;X-ADDRESS=Grand Palais Ephémère Place Joffre Paris Paris 75007 France;X-APPLE-RADIUS=500;X-TITLE=Place Joffre:geo:2.3011335,48.8519167
END:VEVENT
END:VCALENDAR