BEGIN:VCALENDAR
VERSION:2.0
PRODID:-//Actu.Art - ECPv6.15.13//NONSGML v1.0//EN
CALSCALE:GREGORIAN
METHOD:PUBLISH
X-WR-CALNAME:Actu.Art
X-ORIGINAL-URL:https://actu.art
X-WR-CALDESC:Évènements pour Actu.Art
BEGIN:VTIMEZONE
TZID:Europe/Paris
BEGIN:DAYLIGHT
TZOFFSETFROM:+0100
TZOFFSETTO:+0200
TZNAME:CEST
DTSTART:20250330T010000
END:DAYLIGHT
BEGIN:STANDARD
TZOFFSETFROM:+0200
TZOFFSETTO:+0100
TZNAME:CET
DTSTART:20251026T010000
END:STANDARD
BEGIN:DAYLIGHT
TZOFFSETFROM:+0100
TZOFFSETTO:+0200
TZNAME:CEST
DTSTART:20260329T010000
END:DAYLIGHT
BEGIN:STANDARD
TZOFFSETFROM:+0200
TZOFFSETTO:+0100
TZNAME:CET
DTSTART:20261025T010000
END:STANDARD
BEGIN:DAYLIGHT
TZOFFSETFROM:+0100
TZOFFSETTO:+0200
TZNAME:CEST
DTSTART:20270328T010000
END:DAYLIGHT
BEGIN:STANDARD
TZOFFSETFROM:+0200
TZOFFSETTO:+0100
TZNAME:CET
DTSTART:20271031T010000
END:STANDARD
END:VTIMEZONE
BEGIN:VEVENT
DTSTART;TZID=Europe/Paris:20260422T130000
DTEND;TZID=Europe/Paris:20260719T180000
DTSTAMP:20260424T061504
CREATED:20260421T210448Z
LAST-MODIFIED:20260421T210448Z
UID:144182-1776862800-1784484000@actu.art
SUMMARY:Anniversarium Stress
DESCRIPTION:L’exposition\, à travers des médiums multiples (dessin\, peinture\, vidéo\, sculpture\, installation…)\, traduit l’ambivalence de l’anniversaire entre joie de la fête et mélancolie du temps qui passe. Réunissant une liste d’artistes invités\, l’exposition s’amuse de ce que pourrait être une fête un tant soit peu dysfonctionnelle dans laquelle se jouent et rejouent les différents poncifs associés à l’idée d’anniversaire : carton\, invité\, gâteau\, bougie\, ivresse contrôlée ou non\, artifice\, musique et danse… et\, avec en creux\, le rapport au temps.
URL:https://actu.art/event/anniversarium-stress/
LOCATION:Maison d’art Bernard Anthonioz\, 16 rue Charles VII\, Nogent-sur-Marne\, Val-de-Marne\, 94130\, France
CATEGORIES:Expositions
ATTACH;FMTTYPE=image/jpeg:https://actu.art/wp-content/uploads/2026/04/Anniversarium_Stress.jpg
GEO:48.8346117;2.4877199
X-APPLE-STRUCTURED-LOCATION;VALUE=URI;X-ADDRESS=Maison d’art Bernard Anthonioz 16 rue Charles VII Nogent-sur-Marne Val-de-Marne 94130 France;X-APPLE-RADIUS=500;X-TITLE=16 rue Charles VII:geo:2.4877199,48.8346117
END:VEVENT
END:VCALENDAR