BEGIN:VCALENDAR
VERSION:2.0
PRODID:-//Actu.Art - ECPv6.15.13//NONSGML v1.0//EN
CALSCALE:GREGORIAN
METHOD:PUBLISH
X-WR-CALNAME:Actu.Art
X-ORIGINAL-URL:https://actu.art
X-WR-CALDESC:Évènements pour Actu.Art
BEGIN:VTIMEZONE
TZID:Europe/Paris
BEGIN:DAYLIGHT
TZOFFSETFROM:+0100
TZOFFSETTO:+0200
TZNAME:CEST
DTSTART:20210328T010000
END:DAYLIGHT
BEGIN:STANDARD
TZOFFSETFROM:+0200
TZOFFSETTO:+0100
TZNAME:CET
DTSTART:20211031T010000
END:STANDARD
BEGIN:DAYLIGHT
TZOFFSETFROM:+0100
TZOFFSETTO:+0200
TZNAME:CEST
DTSTART:20220327T010000
END:DAYLIGHT
BEGIN:STANDARD
TZOFFSETFROM:+0200
TZOFFSETTO:+0100
TZNAME:CET
DTSTART:20221030T010000
END:STANDARD
BEGIN:DAYLIGHT
TZOFFSETFROM:+0100
TZOFFSETTO:+0200
TZNAME:CEST
DTSTART:20230326T010000
END:DAYLIGHT
BEGIN:STANDARD
TZOFFSETFROM:+0200
TZOFFSETTO:+0100
TZNAME:CET
DTSTART:20231029T010000
END:STANDARD
END:VTIMEZONE
BEGIN:VEVENT
DTSTART;VALUE=DATE:20220325
DTEND;VALUE=DATE:20220725
DTSTAMP:20260424T204032
CREATED:20211218T194052Z
LAST-MODIFIED:20220320T203326Z
UID:40651-1648166400-1658707199@actu.art
SUMMARY:Anita Molinero
DESCRIPTION:C’est la première rétrospective consacrée à Anita Molinero dans une institution parisienne. Née en 1953 à Floirac (France)\, c’est l’une des rares femmes sculpteurs de sa génération. L’exposition retrace les différentes phases de l’évolution artistique de cette artiste : de ses premières œuvres (1990) à ses dernières réalisations\, dont certaines spécialement réalisées pour l’occasion. Les grands gestes caractéristiques de son travail d’une part\, et ses nouvelles œuvres de l’autre\, composent le parcours.
URL:https://actu.art/event/anita-molinero/
LOCATION:Musée d’Art Moderne de la ville de Paris\, 11\, avenue du Président Wilson\, Paris\, Paris\, 75116\, France
CATEGORIES:Notre Sélection
ATTACH;FMTTYPE=image/jpeg:https://actu.art/wp-content/uploads/2021/12/Anita-Molinero.jpg
GEO:48.8643421;2.2978208
X-APPLE-STRUCTURED-LOCATION;VALUE=URI;X-ADDRESS=Musée d’Art Moderne de la ville de Paris 11 avenue du Président Wilson Paris Paris 75116 France;X-APPLE-RADIUS=500;X-TITLE=11\, avenue du Président Wilson:geo:2.2978208,48.8643421
END:VEVENT
END:VCALENDAR