BEGIN:VCALENDAR
VERSION:2.0
PRODID:-//Actu.Art - ECPv6.15.13//NONSGML v1.0//EN
CALSCALE:GREGORIAN
METHOD:PUBLISH
X-WR-CALNAME:Actu.Art
X-ORIGINAL-URL:https://actu.art
X-WR-CALDESC:Évènements pour Actu.Art
BEGIN:VTIMEZONE
TZID:Europe/Paris
BEGIN:DAYLIGHT
TZOFFSETFROM:+0100
TZOFFSETTO:+0200
TZNAME:CEST
DTSTART:20210328T010000
END:DAYLIGHT
BEGIN:STANDARD
TZOFFSETFROM:+0200
TZOFFSETTO:+0100
TZNAME:CET
DTSTART:20211031T010000
END:STANDARD
BEGIN:DAYLIGHT
TZOFFSETFROM:+0100
TZOFFSETTO:+0200
TZNAME:CEST
DTSTART:20220327T010000
END:DAYLIGHT
BEGIN:STANDARD
TZOFFSETFROM:+0200
TZOFFSETTO:+0100
TZNAME:CET
DTSTART:20221030T010000
END:STANDARD
BEGIN:DAYLIGHT
TZOFFSETFROM:+0100
TZOFFSETTO:+0200
TZNAME:CEST
DTSTART:20230326T010000
END:DAYLIGHT
BEGIN:STANDARD
TZOFFSETFROM:+0200
TZOFFSETTO:+0100
TZNAME:CET
DTSTART:20231029T010000
END:STANDARD
END:VTIMEZONE
BEGIN:VEVENT
DTSTART;TZID=Europe/Paris:20220909T100000
DTEND;TZID=Europe/Paris:20221231T180000
DTSTAMP:20260424T043714
CREATED:20211230T152519Z
LAST-MODIFIED:20221026T200842Z
UID:40947-1662717600-1672509600@actu.art
SUMMARY:André Devambez (1867-1944) : Vertiges de l’imagination
DESCRIPTION:Le Petit Palais et le musée des Beaux-Arts de Rennes s’associent pour proposer une rétrospective inédite consacrée à André Devambez\, artiste rare et pluridisciplinaire à l’oeuvre foisonnante située à la charnière des XIXe et XXe siècles. \nCette première exposition d’envergure consacrée à l’artiste\, explore la grande variété de ses inspirations : portraits\, décors\, sujets d’histoire ou de la vie moderne\, illustrations… Devambez passa d’un support à un autre et aborda tous les formats : du grand à ce qu’il appelait ses « Tout-Petits ». Le Petit Palais souhaite ainsi faire le point sur cet artiste extrêmement prolifique\, au profil typique de la Belle Époque qui voit surgir dans la capitale un flot de créateurs en marge des grands courants artistiques. L’exposition met en valeur l’originalité de son approche\, sa modernité paradoxale et sa fantaisie débridée.
URL:https://actu.art/event/andre-devambez-1867-1944-vertiges-de-limagination/
LOCATION:Petit Palais\, Musée des Beaux-Arts de la ville de Paris\, 6\, Avenue Winston Churchill\, Paris\, Paris\, 75008\, France
CATEGORIES:Notre Sélection
ATTACH;FMTTYPE=image/jpeg:https://actu.art/wp-content/uploads/2021/12/Andre-Devambez-1.jpg
GEO:48.8660773;2.3138827
X-APPLE-STRUCTURED-LOCATION;VALUE=URI;X-ADDRESS=Petit Palais Musée des Beaux-Arts de la ville de Paris 6 Avenue Winston Churchill Paris Paris 75008 France;X-APPLE-RADIUS=500;X-TITLE=6\, Avenue Winston Churchill:geo:2.3138827,48.8660773
END:VEVENT
END:VCALENDAR