BEGIN:VCALENDAR
VERSION:2.0
PRODID:-//Actu.Art - ECPv6.15.13//NONSGML v1.0//EN
CALSCALE:GREGORIAN
METHOD:PUBLISH
X-WR-CALNAME:Actu.Art
X-ORIGINAL-URL:https://actu.art
X-WR-CALDESC:Évènements pour Actu.Art
BEGIN:VTIMEZONE
TZID:Europe/Paris
BEGIN:DAYLIGHT
TZOFFSETFROM:+0100
TZOFFSETTO:+0200
TZNAME:CEST
DTSTART:20240331T010000
END:DAYLIGHT
BEGIN:STANDARD
TZOFFSETFROM:+0200
TZOFFSETTO:+0100
TZNAME:CET
DTSTART:20241027T010000
END:STANDARD
BEGIN:DAYLIGHT
TZOFFSETFROM:+0100
TZOFFSETTO:+0200
TZNAME:CEST
DTSTART:20250330T010000
END:DAYLIGHT
BEGIN:STANDARD
TZOFFSETFROM:+0200
TZOFFSETTO:+0100
TZNAME:CET
DTSTART:20251026T010000
END:STANDARD
BEGIN:DAYLIGHT
TZOFFSETFROM:+0100
TZOFFSETTO:+0200
TZNAME:CEST
DTSTART:20260329T010000
END:DAYLIGHT
BEGIN:STANDARD
TZOFFSETFROM:+0200
TZOFFSETTO:+0100
TZNAME:CET
DTSTART:20261025T010000
END:STANDARD
BEGIN:DAYLIGHT
TZOFFSETFROM:+0100
TZOFFSETTO:+0200
TZNAME:CEST
DTSTART:20270328T010000
END:DAYLIGHT
BEGIN:STANDARD
TZOFFSETFROM:+0200
TZOFFSETTO:+0100
TZNAME:CET
DTSTART:20271031T010000
END:STANDARD
END:VTIMEZONE
BEGIN:VEVENT
DTSTART;TZID=Europe/Paris:20250606T090000
DTEND;TZID=Europe/Paris:20260104T180000
DTSTAMP:20260422T131540
CREATED:20250608T215620Z
LAST-MODIFIED:20250608T215620Z
UID:120338-1749200400-1767549600@actu.art
SUMMARY:Ali Cherri : Les Veilleurs
DESCRIPTION:À l’occasion de l’acquisition de ces deux œuvres majeures\, le [mac] propose à Ali Cherri de choisir dans les collections des Musées de Marseille des pièces résonnant avec son œuvre sculptée et vidéo\, et de penser une scénographie comme un dialogue\, où les objets sortent des discours encyclopédiques\, pour être pleinement matière et susciter l’émotion\, hors récits muséographiques traditionnels ou occidentaux. Les Totems sont des manières de raconter l’histoire par accumulation.  \nLes œuvres sont présentées parallèlement à l’exposition « Alberto Giacometti : sculpter le vide » présentée au Musée Cantini\, les œuvres sculptées d’Ali Cherri se découvrent également en écho aux recherches incessantes de l’artiste sur la représentation du visage humain.
URL:https://actu.art/event/ali-cherri-les-veilleurs/
LOCATION:Musée d’Art Contemporain de Marseille [mac]\, 69 avenue d'Haïfa\, Marseille\, Bouches-du-Rhône\, 13008\, France
CATEGORIES:Expositions
ATTACH;FMTTYPE=image/jpeg:https://actu.art/wp-content/uploads/2025/06/Ali_Cherri_Les_Veilleurs.jpg
GEO:43.2502578;5.3897089
X-APPLE-STRUCTURED-LOCATION;VALUE=URI;X-ADDRESS=Musée d’Art Contemporain de Marseille [mac] 69 avenue d'Haïfa Marseille Bouches-du-Rhône 13008 France;X-APPLE-RADIUS=500;X-TITLE=69 avenue d'Haïfa:geo:5.3897089,43.2502578
END:VEVENT
END:VCALENDAR