BEGIN:VCALENDAR
VERSION:2.0
PRODID:-//Actu.Art - ECPv6.15.13//NONSGML v1.0//EN
CALSCALE:GREGORIAN
METHOD:PUBLISH
X-WR-CALNAME:Actu.Art
X-ORIGINAL-URL:https://actu.art
X-WR-CALDESC:Évènements pour Actu.Art
BEGIN:VTIMEZONE
TZID:Europe/Paris
BEGIN:DAYLIGHT
TZOFFSETFROM:+0100
TZOFFSETTO:+0200
TZNAME:CEST
DTSTART:20210328T010000
END:DAYLIGHT
BEGIN:STANDARD
TZOFFSETFROM:+0200
TZOFFSETTO:+0100
TZNAME:CET
DTSTART:20211031T010000
END:STANDARD
BEGIN:DAYLIGHT
TZOFFSETFROM:+0100
TZOFFSETTO:+0200
TZNAME:CEST
DTSTART:20220327T010000
END:DAYLIGHT
BEGIN:STANDARD
TZOFFSETFROM:+0200
TZOFFSETTO:+0100
TZNAME:CET
DTSTART:20221030T010000
END:STANDARD
BEGIN:DAYLIGHT
TZOFFSETFROM:+0100
TZOFFSETTO:+0200
TZNAME:CEST
DTSTART:20230326T010000
END:DAYLIGHT
BEGIN:STANDARD
TZOFFSETFROM:+0200
TZOFFSETTO:+0100
TZNAME:CET
DTSTART:20231029T010000
END:STANDARD
END:VTIMEZONE
BEGIN:VEVENT
DTSTART;VALUE=DATE:20220315
DTEND;VALUE=DATE:20220801
DTSTAMP:20260424T165154
CREATED:20220224T223124Z
LAST-MODIFIED:20220802T141952Z
UID:42258-1647302400-1659311940@actu.art
SUMMARY:Algérie mon amour
DESCRIPTION:Cette exposition met en lumière une collection\, unique dans le monde occidental\, d’art moderne et contemporain d’Algérie et des diasporas : celle du musée de l’Institut du monde arabe. Le parcours tient à témoigner de la fraternité\, et de la solidarité\, qui ont lié les artistes et les intellectuels algériens et français durant les années les plus difficiles de leur histoire commune. La richesse de la production algérienne moderne et contemporaine\, dans les arts visuels classiques comme dans les nouveaux médias\, sont ici mises en lumière.
URL:https://actu.art/event/algerie-mon-amour/
LOCATION:Institut du Monde Arabe\, 1 rue des Fossés-Saint-Bernard\, Paris\, Paris\, 75005\, France
CATEGORIES:Notre Sélection
ATTACH;FMTTYPE=image/jpeg:https://actu.art/wp-content/uploads/2022/02/Algerie-Mon-Amour-1.jpg
GEO:48.8493015;2.3560992
X-APPLE-STRUCTURED-LOCATION;VALUE=URI;X-ADDRESS=Institut du Monde Arabe 1 rue des Fossés-Saint-Bernard Paris Paris 75005 France;X-APPLE-RADIUS=500;X-TITLE=1 rue des Fossés-Saint-Bernard:geo:2.3560992,48.8493015
END:VEVENT
END:VCALENDAR