BEGIN:VCALENDAR
VERSION:2.0
PRODID:-//Actu.Art - ECPv6.15.13//NONSGML v1.0//EN
CALSCALE:GREGORIAN
METHOD:PUBLISH
X-WR-CALNAME:Actu.Art
X-ORIGINAL-URL:https://actu.art
X-WR-CALDESC:Évènements pour Actu.Art
BEGIN:VTIMEZONE
TZID:Europe/Paris
BEGIN:DAYLIGHT
TZOFFSETFROM:+0100
TZOFFSETTO:+0200
TZNAME:CEST
DTSTART:20210328T010000
END:DAYLIGHT
BEGIN:STANDARD
TZOFFSETFROM:+0200
TZOFFSETTO:+0100
TZNAME:CET
DTSTART:20211031T010000
END:STANDARD
BEGIN:DAYLIGHT
TZOFFSETFROM:+0100
TZOFFSETTO:+0200
TZNAME:CEST
DTSTART:20220327T010000
END:DAYLIGHT
BEGIN:STANDARD
TZOFFSETFROM:+0200
TZOFFSETTO:+0100
TZNAME:CET
DTSTART:20221030T010000
END:STANDARD
BEGIN:DAYLIGHT
TZOFFSETFROM:+0100
TZOFFSETTO:+0200
TZNAME:CEST
DTSTART:20230326T010000
END:DAYLIGHT
BEGIN:STANDARD
TZOFFSETFROM:+0200
TZOFFSETTO:+0100
TZNAME:CET
DTSTART:20231029T010000
END:STANDARD
END:VTIMEZONE
BEGIN:VEVENT
DTSTART;VALUE=DATE:20220604
DTEND;VALUE=DATE:20221003
DTSTAMP:20260424T223034
CREATED:20211220T214751Z
LAST-MODIFIED:20220813T164922Z
UID:40764-1654300800-1664755199@actu.art
SUMMARY:Albrecht Dürer - Renaissance et Gravure
DESCRIPTION:Pour la première fois\, deux collections majeures d’œuvres d’Albrecht Dürer en France (celle du musée Condé à Chantilly et celle de la Bibliothèque nationale de France) s’unissent. Le parcours d’exposition présente ainsi plus de 200 feuilles : un rassemblement inédit qui met en valeur la création graphique de Dürer\, placée au cœur de sa propre pratique artistique et des bouleversements de son époque.
URL:https://actu.art/event/albrecht-durer/
LOCATION:Domaine de Chantilly – Musée Condé – Château\, château\, Chantilly\, Oise\, 60500\, France
CATEGORIES:Notre Sélection
ATTACH;FMTTYPE=image/jpeg:https://actu.art/wp-content/uploads/2021/12/Albrecht-Durer-Gravure-et-Renaissance.jpg
GEO:49.1938467;2.4852034
X-APPLE-STRUCTURED-LOCATION;VALUE=URI;X-ADDRESS=Domaine de Chantilly – Musée Condé – Château château Chantilly Oise 60500 France;X-APPLE-RADIUS=500;X-TITLE=château:geo:2.4852034,49.1938467
END:VEVENT
END:VCALENDAR