BEGIN:VCALENDAR
VERSION:2.0
PRODID:-//Actu.Art - ECPv6.15.13//NONSGML v1.0//EN
CALSCALE:GREGORIAN
METHOD:PUBLISH
X-WR-CALNAME:Actu.Art
X-ORIGINAL-URL:https://actu.art
X-WR-CALDESC:Évènements pour Actu.Art
BEGIN:VTIMEZONE
TZID:Europe/Paris
BEGIN:DAYLIGHT
TZOFFSETFROM:+0100
TZOFFSETTO:+0200
TZNAME:CEST
DTSTART:20190331T010000
END:DAYLIGHT
BEGIN:STANDARD
TZOFFSETFROM:+0200
TZOFFSETTO:+0100
TZNAME:CET
DTSTART:20191027T010000
END:STANDARD
BEGIN:DAYLIGHT
TZOFFSETFROM:+0100
TZOFFSETTO:+0200
TZNAME:CEST
DTSTART:20200329T010000
END:DAYLIGHT
BEGIN:STANDARD
TZOFFSETFROM:+0200
TZOFFSETTO:+0100
TZNAME:CET
DTSTART:20201025T010000
END:STANDARD
BEGIN:DAYLIGHT
TZOFFSETFROM:+0100
TZOFFSETTO:+0200
TZNAME:CEST
DTSTART:20210328T010000
END:DAYLIGHT
BEGIN:STANDARD
TZOFFSETFROM:+0200
TZOFFSETTO:+0100
TZNAME:CET
DTSTART:20211031T010000
END:STANDARD
BEGIN:DAYLIGHT
TZOFFSETFROM:+0100
TZOFFSETTO:+0200
TZNAME:CEST
DTSTART:20220327T010000
END:DAYLIGHT
BEGIN:STANDARD
TZOFFSETFROM:+0200
TZOFFSETTO:+0100
TZNAME:CET
DTSTART:20221030T010000
END:STANDARD
END:VTIMEZONE
BEGIN:VEVENT
DTSTART;TZID=Europe/Paris:20201001T090000
DTEND;TZID=Europe/Paris:20210104T180000
DTSTAMP:20260426T011500
CREATED:20200713T210012Z
LAST-MODIFIED:20210318T092042Z
UID:23260-1601542800-1609783200@actu.art
SUMMARY:Albrecht Altdorfer. Maître de la Renaissance allemande
DESCRIPTION:Peintre\, dessinateur et graveur actif à Ratisbonne\, Albrecht Altdorfer (vers 1480-1538) est un artiste majeur de la Renaissance allemande. Il reste cependant moins connu que d’autres maîtres de sa génération\, Albrecht Dürer\, Lucas Cranach ou Hans Baldung Grien. Organisée en étroite collaboration avec le musée de l’Albertina de Vienne\, l’exposition ambitionne de présenter pour la première fois au public français toute la  richesse et la diversité de son oeuvre peint\, dessiné et gravé\, en le replaçant dans le contexte de la Renaissance allemande. \nArtiste proche des cercles humanistes\, Altdorfer est à la fois très original\, doté d’une grande capacité d’invention formelle et iconographique\, et parfaitement au fait de la création artistique de ses contemporains allemands et italiens. Le parcours de l’exposition\, avant tout chronologique\, réserve des sections thématiques aux grandes commandes de l’empereur Maximilien\, ainsi qu’à l’orfèvrerie\, au paysage et à l’architecture\, genres dans lesquels Altdorfer fit oeuvre de pionnier.
URL:https://actu.art/event/albrecht-altdorfer-maitre-de-la-renaissance-allemande/
LOCATION:Musée du Louvre\, rue de Rivoli\, Paris 01\, Paris\, 75001\, France
CATEGORIES:Expositions Virtuelles,Notre Sélection
ATTACH;FMTTYPE=image/jpeg:https://actu.art/wp-content/uploads/2020/07/Albrecht-Altdorfer-Adoration-des-mages-vers-1530-35-detail-800x648-1.jpg
GEO:48.8557059;2.3589484
X-APPLE-STRUCTURED-LOCATION;VALUE=URI;X-ADDRESS=Musée du Louvre rue de Rivoli Paris 01 Paris 75001 France;X-APPLE-RADIUS=500;X-TITLE=rue de Rivoli:geo:2.3589484,48.8557059
END:VEVENT
END:VCALENDAR