BEGIN:VCALENDAR
VERSION:2.0
PRODID:-//Actu.Art - ECPv6.15.13//NONSGML v1.0//EN
CALSCALE:GREGORIAN
METHOD:PUBLISH
X-WR-CALNAME:Actu.Art
X-ORIGINAL-URL:https://actu.art
X-WR-CALDESC:Évènements pour Actu.Art
BEGIN:VTIMEZONE
TZID:Europe/Paris
BEGIN:DAYLIGHT
TZOFFSETFROM:+0100
TZOFFSETTO:+0200
TZNAME:CEST
DTSTART:20240331T010000
END:DAYLIGHT
BEGIN:STANDARD
TZOFFSETFROM:+0200
TZOFFSETTO:+0100
TZNAME:CET
DTSTART:20241027T010000
END:STANDARD
BEGIN:DAYLIGHT
TZOFFSETFROM:+0100
TZOFFSETTO:+0200
TZNAME:CEST
DTSTART:20250330T010000
END:DAYLIGHT
BEGIN:STANDARD
TZOFFSETFROM:+0200
TZOFFSETTO:+0100
TZNAME:CET
DTSTART:20251026T010000
END:STANDARD
BEGIN:DAYLIGHT
TZOFFSETFROM:+0100
TZOFFSETTO:+0200
TZNAME:CEST
DTSTART:20260329T010000
END:DAYLIGHT
BEGIN:STANDARD
TZOFFSETFROM:+0200
TZOFFSETTO:+0100
TZNAME:CET
DTSTART:20261025T010000
END:STANDARD
END:VTIMEZONE
BEGIN:VEVENT
DTSTART;TZID=Europe/Paris:20250606T090000
DTEND;TZID=Europe/Paris:20250928T180000
DTSTAMP:20260420T171957
CREATED:20250519T182659Z
LAST-MODIFIED:20250519T182659Z
UID:118409-1749200400-1759082400@actu.art
SUMMARY:Alberto Giacometti - Sculpter le vide
DESCRIPTION:L’oeuvre du sculpteur et peintre Alberto Giacometti est mise à l’honneur dans le cadre d’une exposition monographique organisée par le musée Cantini en collaboration avec la Fondation Giacometti. Rendez-vous au Musée Cantini.
URL:https://actu.art/event/alberto-giacometti-sculpter-le-vide/
LOCATION:Musée Cantini\, 19 rue Grignan\, Marseille\, Bouches-du-Rhône\, 13006\, France
CATEGORIES:Expositions
ATTACH;FMTTYPE=image/jpeg:https://actu.art/wp-content/uploads/2025/05/Alberto_Giacometti_Sculpter_le_vide.jpg
GEO:43.292169;5.378202
X-APPLE-STRUCTURED-LOCATION;VALUE=URI;X-ADDRESS=Musée Cantini 19 rue Grignan Marseille Bouches-du-Rhône 13006 France;X-APPLE-RADIUS=500;X-TITLE=19 rue Grignan:geo:5.378202,43.292169
END:VEVENT
END:VCALENDAR