BEGIN:VCALENDAR
VERSION:2.0
PRODID:-//Actu.Art - ECPv6.15.13//NONSGML v1.0//EN
CALSCALE:GREGORIAN
METHOD:PUBLISH
X-WR-CALNAME:Actu.Art
X-ORIGINAL-URL:https://actu.art
X-WR-CALDESC:Évènements pour Actu.Art
BEGIN:VTIMEZONE
TZID:Europe/Paris
BEGIN:DAYLIGHT
TZOFFSETFROM:+0100
TZOFFSETTO:+0200
TZNAME:CEST
DTSTART:20240331T010000
END:DAYLIGHT
BEGIN:STANDARD
TZOFFSETFROM:+0200
TZOFFSETTO:+0100
TZNAME:CET
DTSTART:20241027T010000
END:STANDARD
BEGIN:DAYLIGHT
TZOFFSETFROM:+0100
TZOFFSETTO:+0200
TZNAME:CEST
DTSTART:20250330T010000
END:DAYLIGHT
BEGIN:STANDARD
TZOFFSETFROM:+0200
TZOFFSETTO:+0100
TZNAME:CET
DTSTART:20251026T010000
END:STANDARD
BEGIN:DAYLIGHT
TZOFFSETFROM:+0100
TZOFFSETTO:+0200
TZNAME:CEST
DTSTART:20260329T010000
END:DAYLIGHT
BEGIN:STANDARD
TZOFFSETFROM:+0200
TZOFFSETTO:+0100
TZNAME:CET
DTSTART:20261025T010000
END:STANDARD
END:VTIMEZONE
BEGIN:VEVENT
DTSTART;TZID=Europe/Paris:20251114T133000
DTEND;TZID=Europe/Paris:20251213T173000
DTSTAMP:20260422T194816
CREATED:20250725T165243Z
LAST-MODIFIED:20250725T165243Z
UID:124778-1763127000-1765647000@actu.art
SUMMARY:Akira Inumaru Exposition de peinture
DESCRIPTION:En cette fin d’année\, Akira Inumaru dévoile Les Lumières éveillées\, une installation immersive mêlant peinture et projection mapping\, fruit d’un an de recherche avec l’artiste numérique Morgane Le Disez.  \nSon travail explore le lien profond entre lumière et végétal à travers trois techniques sensibles : lumière pigmentaire\, distillation solaire et phosphanie.  \nUne expérience poétique où image\, matière et lumière révèlent la vitalité secrète du monde vivant.
URL:https://actu.art/event/akira-inumaru-exposition-de-peinture/
LOCATION:Espace Marc Sangnier\, Rue Nicolas Poussin\, Mont-Saint-Aignan\, Seine-Maritime\, 76130
CATEGORIES:Expositions
END:VEVENT
END:VCALENDAR