BEGIN:VCALENDAR
VERSION:2.0
PRODID:-//Actu.Art - ECPv6.15.13//NONSGML v1.0//EN
CALSCALE:GREGORIAN
METHOD:PUBLISH
X-WR-CALNAME:Actu.Art
X-ORIGINAL-URL:https://actu.art
X-WR-CALDESC:Évènements pour Actu.Art
BEGIN:VTIMEZONE
TZID:Europe/Paris
BEGIN:DAYLIGHT
TZOFFSETFROM:+0100
TZOFFSETTO:+0200
TZNAME:CEST
DTSTART:20190331T010000
END:DAYLIGHT
BEGIN:STANDARD
TZOFFSETFROM:+0200
TZOFFSETTO:+0100
TZNAME:CET
DTSTART:20191027T010000
END:STANDARD
BEGIN:DAYLIGHT
TZOFFSETFROM:+0100
TZOFFSETTO:+0200
TZNAME:CEST
DTSTART:20200329T010000
END:DAYLIGHT
BEGIN:STANDARD
TZOFFSETFROM:+0200
TZOFFSETTO:+0100
TZNAME:CET
DTSTART:20201025T010000
END:STANDARD
BEGIN:DAYLIGHT
TZOFFSETFROM:+0100
TZOFFSETTO:+0200
TZNAME:CEST
DTSTART:20210328T010000
END:DAYLIGHT
BEGIN:STANDARD
TZOFFSETFROM:+0200
TZOFFSETTO:+0100
TZNAME:CET
DTSTART:20211031T010000
END:STANDARD
END:VTIMEZONE
BEGIN:VEVENT
DTSTART;TZID=Europe/Paris:20200225T110000
DTEND;TZID=Europe/Paris:20200621T170000
DTSTAMP:20260425T200223
CREATED:20200523T191347Z
LAST-MODIFIED:20200523T191347Z
UID:20897-1582628400-1592758800@actu.art
SUMMARY:A la recherche des œuvres disparues
DESCRIPTION:« À la recherche des œuvres disparues » est une enquête sur les traces d’œuvres inédites d’Alberto Giacometti.\nDisparues ? Pas totalement\, car Alberto Giacometti a laissé des indices derrière lui\, des précieux témoignages documentés qui nous permettent aujourd’hui de présenter\, à l’Institut Giacometti\, des œuvres méconnues et inédites. Alberto Giacometti a traversé de nombreuses phases de doute\, au cours de sa carrière\, qui le poussent à remettre inlassablement son travail en question. Perdues\, vendues ou endommagées\, les œuvres connaissent toutes leur propre histoire. A l’aide de croquis\, carnets de notes et photographies d’archives\, des œuvres déterminantes sont aujourd’hui reconstituées dans les salles d’exposition face à des pièces authentiques de la même période.\nDans cette première période\, Giacometti expérimente beaucoup et produit environ 140 œuvres dont 48 ont disparu et sont présentées pour la première fois sous une forme documentaire ou à travers trois reconstitutions.\nFruit de plus de deux ans de recherches réalisées dans le riche fonds d’archives de la Fondation Giacometti\, l’exposition permet de voir ces œuvres inconnues du grand public en lien avec des chefs-d’œuvre de la même époque qui\, elles\, ont été conservées.\nCroisant les lettres que Giacometti adresse à sa famille\, dans lesquelles il évoque ses œuvres en cours\, les listes de sculptures qu’il recense dans ses nombreux carnets et les innombrables photographies d’archive\, l’exposition dresse les prémisses d’un catalogue raisonné des œuvres réalisées par Giacometti entre 1920 et 1935.
URL:https://actu.art/event/a-la-recherche-des-oeuvres-disparues-2/
LOCATION:Institut Giacometti\, 5\, rue Victor Schoelcher\, Paris\, Paris\, 75014\, France
CATEGORIES:Notre Sélection
ATTACH;FMTTYPE=image/jpeg:https://actu.art/wp-content/uploads/2020/05/A-la-recherche-des-oeuvres-disparues-549x800.jpg
GEO:48.836203;2.331067
X-APPLE-STRUCTURED-LOCATION;VALUE=URI;X-ADDRESS=Institut Giacometti 5 rue Victor Schoelcher Paris Paris 75014 France;X-APPLE-RADIUS=500;X-TITLE=5\, rue Victor Schoelcher:geo:2.331067,48.836203
END:VEVENT
END:VCALENDAR