BEGIN:VCALENDAR
VERSION:2.0
PRODID:-//Actu.Art - ECPv6.15.13//NONSGML v1.0//EN
CALSCALE:GREGORIAN
METHOD:PUBLISH
X-WR-CALNAME:Actu.Art
X-ORIGINAL-URL:https://actu.art
X-WR-CALDESC:Évènements pour Actu.Art
BEGIN:VTIMEZONE
TZID:Europe/Paris
BEGIN:DAYLIGHT
TZOFFSETFROM:+0100
TZOFFSETTO:+0200
TZNAME:CEST
DTSTART:20240331T010000
END:DAYLIGHT
BEGIN:STANDARD
TZOFFSETFROM:+0200
TZOFFSETTO:+0100
TZNAME:CET
DTSTART:20241027T010000
END:STANDARD
BEGIN:DAYLIGHT
TZOFFSETFROM:+0100
TZOFFSETTO:+0200
TZNAME:CEST
DTSTART:20250330T010000
END:DAYLIGHT
BEGIN:STANDARD
TZOFFSETFROM:+0200
TZOFFSETTO:+0100
TZNAME:CET
DTSTART:20251026T010000
END:STANDARD
BEGIN:DAYLIGHT
TZOFFSETFROM:+0100
TZOFFSETTO:+0200
TZNAME:CEST
DTSTART:20260329T010000
END:DAYLIGHT
BEGIN:STANDARD
TZOFFSETFROM:+0200
TZOFFSETTO:+0100
TZNAME:CET
DTSTART:20261025T010000
END:STANDARD
END:VTIMEZONE
BEGIN:VEVENT
DTSTART;VALUE=DATE:20250418
DTEND;VALUE=DATE:20250608
DTSTAMP:20260419T152118
CREATED:20250416T095228Z
LAST-MODIFIED:20250416T095228Z
UID:114595-1744934400-1749340799@actu.art
SUMMARY:A Blessing in disguise : Sacha Floch Poliakoff
DESCRIPTION:
URL:https://actu.art/event/a-blessing-in-disguise-sacha-floch-poliakoff/
LOCATION:Galerie Clavé Fine Art\, 10 bis rue Roger\, Paris\, Paris\, 75014\, France
CATEGORIES:Expositions Galeries
ATTACH;FMTTYPE=image/jpeg:https://actu.art/wp-content/uploads/2025/04/A_Blessing_in_disguise_Sacha_Floch_Poliakoff.jpg
GEO:48.8356751;2.3267534
X-APPLE-STRUCTURED-LOCATION;VALUE=URI;X-ADDRESS=Galerie Clavé Fine Art 10 bis rue Roger Paris Paris 75014 France;X-APPLE-RADIUS=500;X-TITLE=10 bis rue Roger:geo:2.3267534,48.8356751
END:VEVENT
END:VCALENDAR