BEGIN:VCALENDAR
VERSION:2.0
PRODID:-//Actu.Art - ECPv6.15.13//NONSGML v1.0//EN
CALSCALE:GREGORIAN
METHOD:PUBLISH
X-WR-CALNAME:Actu.Art
X-ORIGINAL-URL:https://actu.art
X-WR-CALDESC:Évènements pour Actu.Art
BEGIN:VTIMEZONE
TZID:Europe/Paris
BEGIN:DAYLIGHT
TZOFFSETFROM:+0100
TZOFFSETTO:+0200
TZNAME:CEST
DTSTART:20240331T010000
END:DAYLIGHT
BEGIN:STANDARD
TZOFFSETFROM:+0200
TZOFFSETTO:+0100
TZNAME:CET
DTSTART:20241027T010000
END:STANDARD
BEGIN:DAYLIGHT
TZOFFSETFROM:+0100
TZOFFSETTO:+0200
TZNAME:CEST
DTSTART:20250330T010000
END:DAYLIGHT
BEGIN:STANDARD
TZOFFSETFROM:+0200
TZOFFSETTO:+0100
TZNAME:CET
DTSTART:20251026T010000
END:STANDARD
BEGIN:DAYLIGHT
TZOFFSETFROM:+0100
TZOFFSETTO:+0200
TZNAME:CEST
DTSTART:20260329T010000
END:DAYLIGHT
BEGIN:STANDARD
TZOFFSETFROM:+0200
TZOFFSETTO:+0100
TZNAME:CET
DTSTART:20261025T010000
END:STANDARD
END:VTIMEZONE
BEGIN:VEVENT
DTSTART;VALUE=DATE:20250801
DTEND;VALUE=DATE:20250802
DTSTAMP:20260423T232029
CREATED:20250222T225019Z
LAST-MODIFIED:20250222T225251Z
UID:109877-1754006400-1754092799@actu.art
SUMMARY:55ème Salon des Arts de Cholet
DESCRIPTION:Palmarès\n\n\n\n1er prix Peinture Ville de Cholet : 2000€\n2ème prix Peinture Cholet Événements : 400€\nPrix du public Peinture : 100€ (cumulatif)\n\n\n\n1er prix Sculpture Ville de Cholet : 2000€\n2ème prix Sculpture Cholet Événements : 400€\nPrix du public Sculpture : 100€ (cumulatif)\n\n  \n\n1er prix Œuvre sur papier Ville de Cholet : 500€\n2ème prix Œuvre sur papier Cholet Événements : 200€\nPrix du public Œuvre sur papier : 50€ (cumulatif)\n\nInscription jusqu’au 1er août 2025
URL:https://actu.art/event/55eme-salon-des-arts-de-cholet/
LOCATION:Salle des Fêtes de Cholet\, Avenue Anatole Manceau\, Cholet\, Maine-et-Loire\, 49300\, France
CATEGORIES:Appels à candidature
GEO:47.0528874;-0.8788426
X-APPLE-STRUCTURED-LOCATION;VALUE=URI;X-ADDRESS=Salle des Fêtes de Cholet Avenue Anatole Manceau Cholet Maine-et-Loire 49300 France;X-APPLE-RADIUS=500;X-TITLE=Avenue Anatole Manceau:geo:-0.8788426,47.0528874
END:VEVENT
END:VCALENDAR