BEGIN:VCALENDAR
VERSION:2.0
PRODID:-//Actu.Art - ECPv6.15.13//NONSGML v1.0//EN
CALSCALE:GREGORIAN
METHOD:PUBLISH
X-WR-CALNAME:Actu.Art
X-ORIGINAL-URL:https://actu.art
X-WR-CALDESC:Évènements pour Actu.Art
BEGIN:VTIMEZONE
TZID:Europe/Paris
BEGIN:DAYLIGHT
TZOFFSETFROM:+0100
TZOFFSETTO:+0200
TZNAME:CEST
DTSTART:20240331T010000
END:DAYLIGHT
BEGIN:STANDARD
TZOFFSETFROM:+0200
TZOFFSETTO:+0100
TZNAME:CET
DTSTART:20241027T010000
END:STANDARD
BEGIN:DAYLIGHT
TZOFFSETFROM:+0100
TZOFFSETTO:+0200
TZNAME:CEST
DTSTART:20250330T010000
END:DAYLIGHT
BEGIN:STANDARD
TZOFFSETFROM:+0200
TZOFFSETTO:+0100
TZNAME:CET
DTSTART:20251026T010000
END:STANDARD
BEGIN:DAYLIGHT
TZOFFSETFROM:+0100
TZOFFSETTO:+0200
TZNAME:CEST
DTSTART:20260329T010000
END:DAYLIGHT
BEGIN:STANDARD
TZOFFSETFROM:+0200
TZOFFSETTO:+0100
TZNAME:CET
DTSTART:20261025T010000
END:STANDARD
END:VTIMEZONE
BEGIN:VEVENT
DTSTART;TZID=Europe/Paris:20250510T080000
DTEND;TZID=Europe/Paris:20250518T170000
DTSTAMP:20260420T155925
CREATED:20250501T174910Z
LAST-MODIFIED:20250501T174910Z
UID:116678-1746864000-1747587600@actu.art
SUMMARY:46e Salon des Arts – Le Pecq
DESCRIPTION:L’Association des Artistes Alpicois est heureuse de vous annoncer la 46e édition du Salon des Arts. \nÀ chaque édition\, près de 1 000 visiteurs se retrouvent lors de ce rendez-vous artistique durant lequel peintres\, sculpteurs\, aquarellistes et photographes font découvrir leurs œuvres au public. \nCette année\, les œuvres de Claire Gruson seront mises à l’honneur. \nDu lundi au vendredi de 14h à 18h\, le week-end de 10h à 12h30 et de 14h à 18h \nRenseignements auprès de Didier Schmitz au 06 95 31 15 45 ou sur lesartistesalpicois.com
URL:https://actu.art/event/46e-salon-des-arts-le-pecq/
LOCATION:Pole Wilson\, 6\, avenue de la Paix\, Le Pecq\, Yvelines\, 78230\, France
CATEGORIES:Expositions
ATTACH;FMTTYPE=image/jpeg:https://actu.art/wp-content/uploads/2025/05/46e_Salon_des_Arts_Le_Pecq.jpg
GEO:48.8968827;2.1109421
X-APPLE-STRUCTURED-LOCATION;VALUE=URI;X-ADDRESS=Pole Wilson 6 avenue de la Paix Le Pecq Yvelines 78230 France;X-APPLE-RADIUS=500;X-TITLE=6\, avenue de la Paix:geo:2.1109421,48.8968827
END:VEVENT
END:VCALENDAR