BEGIN:VCALENDAR
VERSION:2.0
PRODID:-//Actu.Art - ECPv6.15.13//NONSGML v1.0//EN
CALSCALE:GREGORIAN
METHOD:PUBLISH
X-WR-CALNAME:Actu.Art
X-ORIGINAL-URL:https://actu.art
X-WR-CALDESC:Évènements pour Actu.Art
BEGIN:VTIMEZONE
TZID:Europe/Paris
BEGIN:DAYLIGHT
TZOFFSETFROM:+0100
TZOFFSETTO:+0200
TZNAME:CEST
DTSTART:20240331T010000
END:DAYLIGHT
BEGIN:STANDARD
TZOFFSETFROM:+0200
TZOFFSETTO:+0100
TZNAME:CET
DTSTART:20241027T010000
END:STANDARD
BEGIN:DAYLIGHT
TZOFFSETFROM:+0100
TZOFFSETTO:+0200
TZNAME:CEST
DTSTART:20250330T010000
END:DAYLIGHT
BEGIN:STANDARD
TZOFFSETFROM:+0200
TZOFFSETTO:+0100
TZNAME:CET
DTSTART:20251026T010000
END:STANDARD
BEGIN:DAYLIGHT
TZOFFSETFROM:+0100
TZOFFSETTO:+0200
TZNAME:CEST
DTSTART:20260329T010000
END:DAYLIGHT
BEGIN:STANDARD
TZOFFSETFROM:+0200
TZOFFSETTO:+0100
TZNAME:CET
DTSTART:20261025T010000
END:STANDARD
END:VTIMEZONE
BEGIN:VEVENT
DTSTART;TZID=Europe/Paris:20250503T100000
DTEND;TZID=Europe/Paris:20250518T190000
DTSTAMP:20260422T163237
CREATED:20250501T225117Z
LAST-MODIFIED:20250501T225258Z
UID:116868-1746266400-1747594800@actu.art
SUMMARY:4 Artistes en mai
DESCRIPTION:Du 3 au 18 MAI\, EXPOSITION « 4 ARTISTES EN MAI » à l’ESPACE ROGER IKOR DE LA FRETTE \nTrois peintres et un sculpteur\, vous offriront une exposition vitaminée\, une ode au printemps\, à la renaissance bienfaisante de la nature\, dans L’ESPACE ROGER IKOR de LA FRETTE-SUR-SEINE. \n\nNadine BRUSCHI dont les peintures sont toujours surprenantes par l’originalité des contrastes et la liberté des couleurs.\nCatherine CHIBANE alias KATEU aime saisir\, sur le papier ou la toile\, avec des techniques variées\, la beauté de la nature\, d’un jeu de couleurs ou de lumières.\nThierry DANIEL\, sculpteur sur métal dont la maitrise de la matière lui permet de créer des œuvres pleines de poésie.\nChristian MARÉCHAL ne s’enferme dans aucun style ni courant de création. Sa curiosité et son désir d’expérimenter de nouvelles pratiques rend son art polymorphe.\n\nUN “BOL D’ART FRAIS” À RESPIRER SANS MODÉRATION !
URL:https://actu.art/event/4-artistes-en-mai/
LOCATION:Espace Roger Ikor\, 55 Quai De Seine\, Frette sur Seine\, Val-d'Oise\, 95530\, France
CATEGORIES:Expositions
ATTACH;FMTTYPE=image/jpeg:https://actu.art/wp-content/uploads/2025/05/4-Artistes-en-mai.jpg
ORGANIZER;CN="Les Couleurs de l'Art":MAILTO:lescouleursdelart95@gmail.com
GEO:48.973927;2.178392
X-APPLE-STRUCTURED-LOCATION;VALUE=URI;X-ADDRESS=Espace Roger Ikor 55 Quai De Seine Frette sur Seine Val-d'Oise 95530 France;X-APPLE-RADIUS=500;X-TITLE=55 Quai De Seine:geo:2.178392,48.973927
END:VEVENT
END:VCALENDAR