BEGIN:VCALENDAR
VERSION:2.0
PRODID:-//Actu.Art - ECPv6.15.13//NONSGML v1.0//EN
CALSCALE:GREGORIAN
METHOD:PUBLISH
X-WR-CALNAME:Actu.Art
X-ORIGINAL-URL:https://actu.art
X-WR-CALDESC:Évènements pour Actu.Art
BEGIN:VTIMEZONE
TZID:Europe/Paris
BEGIN:DAYLIGHT
TZOFFSETFROM:+0100
TZOFFSETTO:+0200
TZNAME:CEST
DTSTART:20240331T010000
END:DAYLIGHT
BEGIN:STANDARD
TZOFFSETFROM:+0200
TZOFFSETTO:+0100
TZNAME:CET
DTSTART:20241027T010000
END:STANDARD
BEGIN:DAYLIGHT
TZOFFSETFROM:+0100
TZOFFSETTO:+0200
TZNAME:CEST
DTSTART:20250330T010000
END:DAYLIGHT
BEGIN:STANDARD
TZOFFSETFROM:+0200
TZOFFSETTO:+0100
TZNAME:CET
DTSTART:20251026T010000
END:STANDARD
BEGIN:DAYLIGHT
TZOFFSETFROM:+0100
TZOFFSETTO:+0200
TZNAME:CEST
DTSTART:20260329T010000
END:DAYLIGHT
BEGIN:STANDARD
TZOFFSETFROM:+0200
TZOFFSETTO:+0100
TZNAME:CET
DTSTART:20261025T010000
END:STANDARD
END:VTIMEZONE
BEGIN:VEVENT
DTSTART;VALUE=DATE:20251005
DTEND;VALUE=DATE:20251027
DTSTAMP:20260425T024522
CREATED:20251107T221148Z
LAST-MODIFIED:20251107T221148Z
UID:131486-1759622400-1761523199@actu.art
SUMMARY:37ème Salon d’Automne
DESCRIPTION:Le 37ème Salon d’Automne\, exposition de peintures et sculptures\, se déroulera du Dimanche 5 au Dimanche 26 octobre 2025\, au Moulin d’en Haut à Dormans.
URL:https://actu.art/event/37eme-salon-dautomne/
LOCATION:Le Moulin d’en Haut\, 4 Rue du Moulin\, Dormans\, Marne\, 51700\, France
CATEGORIES:Expositions
ATTACH;FMTTYPE=image/jpeg:https://actu.art/wp-content/uploads/2025/10/37eme_Salon_d_Automne.jpg
GEO:49.0764476;3.6432596
X-APPLE-STRUCTURED-LOCATION;VALUE=URI;X-ADDRESS=Le Moulin d’en Haut 4 Rue du Moulin Dormans Marne 51700 France;X-APPLE-RADIUS=500;X-TITLE=4 Rue du Moulin:geo:3.6432596,49.0764476
END:VEVENT
END:VCALENDAR