BEGIN:VCALENDAR
VERSION:2.0
PRODID:-//Actu.Art - ECPv6.15.13//NONSGML v1.0//EN
CALSCALE:GREGORIAN
METHOD:PUBLISH
X-WR-CALNAME:Actu.Art
X-ORIGINAL-URL:https://actu.art
X-WR-CALDESC:Évènements pour Actu.Art
BEGIN:VTIMEZONE
TZID:Europe/Paris
BEGIN:DAYLIGHT
TZOFFSETFROM:+0100
TZOFFSETTO:+0200
TZNAME:CEST
DTSTART:20240331T010000
END:DAYLIGHT
BEGIN:STANDARD
TZOFFSETFROM:+0200
TZOFFSETTO:+0100
TZNAME:CET
DTSTART:20241027T010000
END:STANDARD
BEGIN:DAYLIGHT
TZOFFSETFROM:+0100
TZOFFSETTO:+0200
TZNAME:CEST
DTSTART:20250330T010000
END:DAYLIGHT
BEGIN:STANDARD
TZOFFSETFROM:+0200
TZOFFSETTO:+0100
TZNAME:CET
DTSTART:20251026T010000
END:STANDARD
BEGIN:DAYLIGHT
TZOFFSETFROM:+0100
TZOFFSETTO:+0200
TZNAME:CEST
DTSTART:20260329T010000
END:DAYLIGHT
BEGIN:STANDARD
TZOFFSETFROM:+0200
TZOFFSETTO:+0100
TZNAME:CET
DTSTART:20261025T010000
END:STANDARD
END:VTIMEZONE
BEGIN:VEVENT
DTSTART;TZID=Europe/Paris:20250505T080000
DTEND;TZID=Europe/Paris:20250522T075900
DTSTAMP:20260423T104040
CREATED:20250416T181613Z
LAST-MODIFIED:20250416T181613Z
UID:114885-1746432000-1747900740@actu.art
SUMMARY:34ème Salon des Arts – Montigny-le-Bretonneux
DESCRIPTION:Invitée d’honneur : Sophie Barbier \nRemise des prix le mercredi 21 mai à 19h
URL:https://actu.art/event/34eme-salon-des-arts-montigny-le-bretonneux/
LOCATION:Conservatoire des Arts\, 1 Parvis des Sources\, Montigny-le-Bretonneux\, Yvelines\, 78180\, France
CATEGORIES:Expositions
ATTACH;FMTTYPE=image/jpeg:https://actu.art/wp-content/uploads/2025/04/34eme_Salon_des_Arts_Montigny_le_Bretonneux.jpg
GEO:48.7819695;2.0450092
X-APPLE-STRUCTURED-LOCATION;VALUE=URI;X-ADDRESS=Conservatoire des Arts 1 Parvis des Sources Montigny-le-Bretonneux Yvelines 78180 France;X-APPLE-RADIUS=500;X-TITLE=1 Parvis des Sources:geo:2.0450092,48.7819695
END:VEVENT
END:VCALENDAR