BEGIN:VCALENDAR
VERSION:2.0
PRODID:-//Actu.Art - ECPv6.15.13//NONSGML v1.0//EN
CALSCALE:GREGORIAN
METHOD:PUBLISH
X-WR-CALNAME:Actu.Art
X-ORIGINAL-URL:https://actu.art
X-WR-CALDESC:Évènements pour Actu.Art
BEGIN:VTIMEZONE
TZID:Europe/Paris
BEGIN:DAYLIGHT
TZOFFSETFROM:+0100
TZOFFSETTO:+0200
TZNAME:CEST
DTSTART:20240331T010000
END:DAYLIGHT
BEGIN:STANDARD
TZOFFSETFROM:+0200
TZOFFSETTO:+0100
TZNAME:CET
DTSTART:20241027T010000
END:STANDARD
BEGIN:DAYLIGHT
TZOFFSETFROM:+0100
TZOFFSETTO:+0200
TZNAME:CEST
DTSTART:20250330T010000
END:DAYLIGHT
BEGIN:STANDARD
TZOFFSETFROM:+0200
TZOFFSETTO:+0100
TZNAME:CET
DTSTART:20251026T010000
END:STANDARD
BEGIN:DAYLIGHT
TZOFFSETFROM:+0100
TZOFFSETTO:+0200
TZNAME:CEST
DTSTART:20260329T010000
END:DAYLIGHT
BEGIN:STANDARD
TZOFFSETFROM:+0200
TZOFFSETTO:+0100
TZNAME:CET
DTSTART:20261025T010000
END:STANDARD
END:VTIMEZONE
BEGIN:VEVENT
DTSTART;TZID=Europe/Paris:20251213T110000
DTEND;TZID=Europe/Paris:20251215T180000
DTSTAMP:20260424T131011
CREATED:20251203T155854Z
LAST-MODIFIED:20251203T155854Z
UID:134584-1765623600-1765821600@actu.art
SUMMARY:28e vente aux enchères au profit de l’association La Source Garouste
DESCRIPTION:Depuis 28 ans\, l’association La Source Garouste créée par le couple d’artistes Elizabeth et Gérard Garouste s’appuie sur le soutien infaillible de nombreux créateurs : designers\, plasticiens\, architectes\, créateurs de mode… Ils sont chaque année une cinquantaine à réinventer une pièce de design iconique offerte par la maison d’édition Vitra. Leur engagement est sans cesse renouvelé et\, chaque année\, ils font tous preuve d’une grande créativité pour proposer des œuvres uniques et originales\, dans la veine de leurs univers singuliers. \nPour cette 28e édition\, 55 créateurs parmi lesquels Mathieu Lehanneur\, Philippe Starck\, Jean-Michel Wilmotte\, Constance Guisset\, Christian Louboutin\, ou encore Pablo Reinoso\, le studio GGSV\, Erwan Bouroullec\, Ronan Bouroullec… ont généreusement accepté de transformer le Tabouret métallique créé par Jean Prouvé. Cette nouvelle édition présente également de nouveaux créateurs engagés comme Johan Creten\, Eva Jospin\, Maison Sarah Lavoine\, Margaux de Penfentenyo\, Dominique Perrault & Gaëlle Lauriot-Prévost\, Hall Haus pour ne citer qu’eux. \nLes œuvres de la 28e vente aux enchères seront exposées durant trois jours\, du samedi 13 au lundi 15 décembre\, à la Société d’Encouragement pour l’Industrie Nationale\, Hôtel de l’industrie\, place Saint-Germain-des-Prés à Paris. La vente\, dont le produit sera intégralement perçu par l’association La Source Garouste\, se tiendra le lundi 15 décembre à 20h\, dans le même lieu\, sous le marteau de Frédéric Chambre de la maison Piasa et en live sur Piasa live et sur Drouot.com.
URL:https://actu.art/event/28e-vente-aux-encheres-au-profit-de-lassociation-la-source-garouste/
LOCATION:Société d’Encouragement pour l’Industrie Nationale\, Hotel de l’industrie\, 4 place Saint-Germain-des-Prés\, Paris\, Paris\, 75006\, France
CATEGORIES:Ventes aux Enchères
ATTACH;FMTTYPE=image/jpeg:https://actu.art/wp-content/uploads/2025/12/20.-Gerard-Garouste_cHugo-Miserey-scaled.jpg
ORGANIZER;CN="La Source Garouste":MAILTO:accueil.association@lasourcegarouste.com
GEO:48.854408;2.3331786
X-APPLE-STRUCTURED-LOCATION;VALUE=URI;X-ADDRESS=Société d’Encouragement pour l’Industrie Nationale Hotel de l’industrie 4 place Saint-Germain-des-Prés Paris Paris 75006 France;X-APPLE-RADIUS=500;X-TITLE=4 place Saint-Germain-des-Prés:geo:2.3331786,48.854408
END:VEVENT
END:VCALENDAR