BEGIN:VCALENDAR
VERSION:2.0
PRODID:-//Actu.Art - ECPv6.15.13//NONSGML v1.0//EN
CALSCALE:GREGORIAN
METHOD:PUBLISH
X-WR-CALNAME:Actu.Art
X-ORIGINAL-URL:https://actu.art
X-WR-CALDESC:Évènements pour Actu.Art
BEGIN:VTIMEZONE
TZID:Europe/Paris
BEGIN:DAYLIGHT
TZOFFSETFROM:+0100
TZOFFSETTO:+0200
TZNAME:CEST
DTSTART:20240331T010000
END:DAYLIGHT
BEGIN:STANDARD
TZOFFSETFROM:+0200
TZOFFSETTO:+0100
TZNAME:CET
DTSTART:20241027T010000
END:STANDARD
BEGIN:DAYLIGHT
TZOFFSETFROM:+0100
TZOFFSETTO:+0200
TZNAME:CEST
DTSTART:20250330T010000
END:DAYLIGHT
BEGIN:STANDARD
TZOFFSETFROM:+0200
TZOFFSETTO:+0100
TZNAME:CET
DTSTART:20251026T010000
END:STANDARD
BEGIN:DAYLIGHT
TZOFFSETFROM:+0100
TZOFFSETTO:+0200
TZNAME:CEST
DTSTART:20260329T010000
END:DAYLIGHT
BEGIN:STANDARD
TZOFFSETFROM:+0200
TZOFFSETTO:+0100
TZNAME:CET
DTSTART:20261025T010000
END:STANDARD
END:VTIMEZONE
BEGIN:VEVENT
DTSTART;TZID=Europe/Paris:20251004T100000
DTEND;TZID=Europe/Paris:20251012T190000
DTSTAMP:20260424T162011
CREATED:20251003T151056Z
LAST-MODIFIED:20251003T151056Z
UID:130138-1759572000-1760295600@actu.art
SUMMARY:21ème Parcours d'Artistes en vallée de Chevreuse
DESCRIPTION:21ème Parcours d’Artistes en vallée de Chevreuse\n102 artistes – 47 ateliers – 16 lieux d’exposition – 8 espaces partenaires\n4-5 et 11-12 octobre 2025\nSamedis et dimanches de 10h à 19h\, entrée libre
URL:https://actu.art/event/21eme-parcours-dartistes-en-vallee-de-chevreuse/
LOCATION:Vallée de Chevreuse\, Chevreuse\, Yvelines\, 78460
CATEGORIES:Ateliers d'Artistes
ATTACH;FMTTYPE=image/jpeg:https://actu.art/wp-content/uploads/2025/10/21eme_Parcours_d_Artistes_en_vallee_de_Chevreuse.jpg
END:VEVENT
END:VCALENDAR