BEGIN:VCALENDAR
VERSION:2.0
PRODID:-//Actu.Art - ECPv6.15.13//NONSGML v1.0//EN
CALSCALE:GREGORIAN
METHOD:PUBLISH
X-WR-CALNAME:Actu.Art
X-ORIGINAL-URL:https://actu.art
X-WR-CALDESC:Évènements pour Actu.Art
BEGIN:VTIMEZONE
TZID:Europe/Paris
BEGIN:DAYLIGHT
TZOFFSETFROM:+0100
TZOFFSETTO:+0200
TZNAME:CEST
DTSTART:20180325T010000
END:DAYLIGHT
BEGIN:STANDARD
TZOFFSETFROM:+0200
TZOFFSETTO:+0100
TZNAME:CET
DTSTART:20181028T010000
END:STANDARD
BEGIN:DAYLIGHT
TZOFFSETFROM:+0100
TZOFFSETTO:+0200
TZNAME:CEST
DTSTART:20190331T010000
END:DAYLIGHT
BEGIN:STANDARD
TZOFFSETFROM:+0200
TZOFFSETTO:+0100
TZNAME:CET
DTSTART:20191027T010000
END:STANDARD
BEGIN:DAYLIGHT
TZOFFSETFROM:+0100
TZOFFSETTO:+0200
TZNAME:CEST
DTSTART:20200329T010000
END:DAYLIGHT
BEGIN:STANDARD
TZOFFSETFROM:+0200
TZOFFSETTO:+0100
TZNAME:CET
DTSTART:20201025T010000
END:STANDARD
BEGIN:DAYLIGHT
TZOFFSETFROM:+0100
TZOFFSETTO:+0200
TZNAME:CEST
DTSTART:20210328T010000
END:DAYLIGHT
BEGIN:STANDARD
TZOFFSETFROM:+0200
TZOFFSETTO:+0100
TZNAME:CET
DTSTART:20211031T010000
END:STANDARD
END:VTIMEZONE
BEGIN:VEVENT
DTSTART;TZID=Europe/Paris:20190924T110000
DTEND;TZID=Europe/Paris:20200126T190000
DTSTAMP:20260425T013834
CREATED:20190826T210820Z
LAST-MODIFIED:20190826T211119Z
UID:16192-1569322800-1580065200@actu.art
SUMMARY:20 Ans Les acquisitions du musée du quai Branly - Jacques Chirac
DESCRIPTION:Interroger l’essence même d’un musée : pourquoi acquérir des œuvres et à qui les montrer ? Quelle direction lui donner ? Quel doit être son rôle dans le paysage des collections nationales ? Telles sont les questions que pose l’exposition 20 ans. À travers le regard d’une dizaine de conservateurs et de professionnels de l’univers muséal\, jalonnée par une sélection de près de 500 œuvres\, une exposition qui déroule pour la première fois les fils d’une politique d’acquisitions et en dévoile ses coulisses. \nDepuis 1998 – date de création de l’Établissement public du musée du quai Branly\, plus de 72 000 pièces historiques et contemporaines (objets et œuvres graphiques et photographiques) ont intégré les collections publiques. Parmi celles-ci\, des œuvres majeures\, des pièces complétant un ensemble ou historiquement significatives. Des acquisitions savamment choisies\, complétant un héritage de près de quatre siècles\, fusion des collections du musée de l’Homme et du musée national des Arts d’Afrique et d’Océanie (MNAAO)\, comme autant de promesses de regards neufs et de savoirs renouvelés pour les collections extra-européennes.
URL:https://actu.art/event/20-ans-les-acquisitions-du-musee-du-quai-branly-jacques-chirac/
LOCATION:Musée Quai Branly-Jacques Chirac\, 37 Quai Branly\, Paris\, Paris\, 75007\, France
CATEGORIES:Notre Sélection
ATTACH;FMTTYPE=image/jpeg:https://actu.art/wp-content/uploads/2019/08/20-ans-les-acuisitions-du-musée-du-quai-branly.jpg
GEO:48.8608889;2.297894
X-APPLE-STRUCTURED-LOCATION;VALUE=URI;X-ADDRESS=Musée Quai Branly-Jacques Chirac 37 Quai Branly Paris Paris 75007 France;X-APPLE-RADIUS=500;X-TITLE=37 Quai Branly:geo:2.297894,48.8608889
END:VEVENT
END:VCALENDAR