BEGIN:VCALENDAR
VERSION:2.0
PRODID:-//Actu.Art - ECPv6.15.13//NONSGML v1.0//EN
CALSCALE:GREGORIAN
METHOD:PUBLISH
X-WR-CALNAME:Actu.Art
X-ORIGINAL-URL:https://actu.art
X-WR-CALDESC:Évènements pour Actu.Art
BEGIN:VTIMEZONE
TZID:Europe/Paris
BEGIN:DAYLIGHT
TZOFFSETFROM:+0100
TZOFFSETTO:+0200
TZNAME:CEST
DTSTART:20240331T010000
END:DAYLIGHT
BEGIN:STANDARD
TZOFFSETFROM:+0200
TZOFFSETTO:+0100
TZNAME:CET
DTSTART:20241027T010000
END:STANDARD
BEGIN:DAYLIGHT
TZOFFSETFROM:+0100
TZOFFSETTO:+0200
TZNAME:CEST
DTSTART:20250330T010000
END:DAYLIGHT
BEGIN:STANDARD
TZOFFSETFROM:+0200
TZOFFSETTO:+0100
TZNAME:CET
DTSTART:20251026T010000
END:STANDARD
BEGIN:DAYLIGHT
TZOFFSETFROM:+0100
TZOFFSETTO:+0200
TZNAME:CEST
DTSTART:20260329T010000
END:DAYLIGHT
BEGIN:STANDARD
TZOFFSETFROM:+0200
TZOFFSETTO:+0100
TZNAME:CET
DTSTART:20261025T010000
END:STANDARD
END:VTIMEZONE
BEGIN:VEVENT
DTSTART;VALUE=DATE:20251004
DTEND;VALUE=DATE:20251006
DTSTAMP:20260424T163323
CREATED:20251014T161338Z
LAST-MODIFIED:20251014T161338Z
UID:130337-1759536000-1759708799@actu.art
SUMMARY:15ème salon d’Art Actuel et Singulier Association les I Reels
DESCRIPTION:20 Artistes de l’Art Singulier et venus de toute la France seront présents tout au long du week-end des 04 et 05 Octobre 2025 pour vous présenter leurs œuvres-salle de La Bonnette à LA QUEUE LES YVELINES.\n(Sculpteurs-peintres- céramistes\, mosaïste\, récup ferraille\,et d’autres choses encore… )\nLe salon souhaite montrer au public une forme d’expression artistique qui s’écarte délibérément d’une expression figurative réaliste. Ainsi\, le salon expose depuis 2010 des artistes peintres\, sculptrices/eurs et des photographes dont le travail est soit abstrait\, soit singulier.\nLe salon sera ouvert le samedi et dimanche de 10h00 à 18h00.\nLe vernissage aura lieu le samedi à 18h00 et vous y serez les bienvenus.\nL’entrée est libre – Venez nombreux !\nLien vidéo :
URL:https://actu.art/event/15eme-salon-dart-actuel-et-singulier-association-les-i-reels/
LOCATION:Salle de La Bonnette\, Chemin du Roy\, La Queue-les-Yvelines\, Yvelines\, 78940\, France
CATEGORIES:Expositions
ATTACH;FMTTYPE=image/jpeg:https://actu.art/wp-content/uploads/2025/10/15eme_salon_d_Art_Actuel_et_Singulier_Association_les_I_Reels.jpg
GEO:48.7990638;1.7672317
X-APPLE-STRUCTURED-LOCATION;VALUE=URI;X-ADDRESS=Salle de La Bonnette Chemin du Roy La Queue-les-Yvelines Yvelines 78940 France;X-APPLE-RADIUS=500;X-TITLE=Chemin du Roy:geo:1.7672317,48.7990638
END:VEVENT
END:VCALENDAR