BEGIN:VCALENDAR
VERSION:2.0
PRODID:-//Actu.Art - ECPv6.15.13//NONSGML v1.0//EN
CALSCALE:GREGORIAN
METHOD:PUBLISH
X-WR-CALNAME:Actu.Art
X-ORIGINAL-URL:https://actu.art
X-WR-CALDESC:Évènements pour Actu.Art
BEGIN:VTIMEZONE
TZID:Europe/Paris
BEGIN:DAYLIGHT
TZOFFSETFROM:+0100
TZOFFSETTO:+0200
TZNAME:CEST
DTSTART:20240331T010000
END:DAYLIGHT
BEGIN:STANDARD
TZOFFSETFROM:+0200
TZOFFSETTO:+0100
TZNAME:CET
DTSTART:20241027T010000
END:STANDARD
BEGIN:DAYLIGHT
TZOFFSETFROM:+0100
TZOFFSETTO:+0200
TZNAME:CEST
DTSTART:20250330T010000
END:DAYLIGHT
BEGIN:STANDARD
TZOFFSETFROM:+0200
TZOFFSETTO:+0100
TZNAME:CET
DTSTART:20251026T010000
END:STANDARD
BEGIN:DAYLIGHT
TZOFFSETFROM:+0100
TZOFFSETTO:+0200
TZNAME:CEST
DTSTART:20260329T010000
END:DAYLIGHT
BEGIN:STANDARD
TZOFFSETFROM:+0200
TZOFFSETTO:+0100
TZNAME:CET
DTSTART:20261025T010000
END:STANDARD
END:VTIMEZONE
BEGIN:VEVENT
DTSTART;TZID=Europe/Paris:20250430T100000
DTEND;TZID=Europe/Paris:20250504T180000
DTSTAMP:20260422T033235
CREATED:20250416T190821Z
LAST-MODIFIED:20250416T190821Z
UID:114910-1746007200-1746381600@actu.art
SUMMARY:10ème Salon de Printemps Peinture et Sculpture
DESCRIPTION:10ème Salon de Printemps Peinture et Sculpture d’Oherville. \nExposition de 25 artistes.  \nConcours sur le thème « Visions étrangères »\, le public pourra voter pour son œuvre préférée. \nA la Salle La Grange\, entrée libre de 10h00 à 18h00\,
URL:https://actu.art/event/10eme-salon-de-printemps-peinture-et-sculpture/
LOCATION:Salle La Grange\, 35 Route des Fonds\, Oherville\, Seine-Maritime\, 76560
CATEGORIES:Marchés de l'Art/Salons
ATTACH;FMTTYPE=image/jpeg:https://actu.art/wp-content/uploads/2025/04/10eme_Salon_de_Printemps_Peinture_et_Sculpture.jpg
END:VEVENT
END:VCALENDAR